BEGIN:VCALENDAR
VERSION:2.0
PRODID:-//ChamberMaster//Event Calendar 2.0//EN
METHOD:PUBLISH
X-PUBLISHED-TTL:P3D
REFRESH-INTERVAL:P3D
CALSCALE:GREGORIAN
BEGIN:VEVENT
DTSTART:20240219T023000Z
DTEND:20240219T053000Z
X-MICROSOFT-CDO-ALLDAYEVENT:FALSE
SUMMARY:Miss California Volunteer Pageant 2024
DESCRIPTION:See who will be crowned Miss California Volunteer 2024 and Miss California Teen Volunteer 2024 featuring Cassie Roby\, Miss California Volunteer and Natalie Miragliotta\, Miss California Teen Volunteer and the Miss California Volunteer Poppy Princesses!
X-ALT-DESC;FMTTYPE=text/html:See who will be crowned Miss California Volunteer 2024 and Miss California Teen Volunteer 2024 featuring Cassie Roby\, Miss California Volunteer and Natalie Miragliotta\, Miss California Teen Volunteer and the Miss California Volunteer Poppy Princesses!
LOCATION:Hermosa Beach Community Theatre 710 Pier Ave\, Hermosa Beach\, CA 90254\, USA
UID:e.2438.9317
SEQUENCE:3
DTSTAMP:20260419T132001Z
URL:https://business.hbchamber.net/events/details/miss-california-volunteer-pageant-2024-9317
END:VEVENT

END:VCALENDAR
