BEGIN:VCALENDAR
VERSION:2.0
PRODID:-//ChamberMaster//Event Calendar 2.0//EN
METHOD:PUBLISH
X-PUBLISHED-TTL:P3D
REFRESH-INTERVAL:P3D
CALSCALE:GREGORIAN
BEGIN:VEVENT
DTSTART:20241124T000000Z
DTEND:20241124T040000Z
X-MICROSOFT-CDO-ALLDAYEVENT:FALSE
SUMMARY:Miss California Volunteer Pageant
DESCRIPTION:Miss California Volunteer is a state wide\, service oriented scholarship program seeking to empower young women through education and opportunity.  By providing a platform for tomorrow's leaders to express their opinions\, talents\, character and intelligence\, our organization seeks to aid in personal development\, better the community and state at large\, and display the importance of service before self. The organization moved from the Central Valley to Hermosa Beach in mid 2023 and is excited to be back as a Member of the Hermosa Beach Chamber of Commerce Non-Profit for another year.
X-ALT-DESC;FMTTYPE=text/html:Miss California Volunteer is a state wide\, service oriented scholarship program seeking to empower young women through education and opportunity.&nbsp\; By providing a platform for tomorrow&rsquo\;s leaders to express their opinions\, talents\, character and intelligence\, our organization seeks to aid in personal development\, better the community and state at large\, and display the importance of service before self. The organization moved from the Central Valley to Hermosa Beach in mid 2023 and is excited to be back as a Member of the Hermosa Beach Chamber of Commerce Non-Profit for another year.&nbsp\;&nbsp\;
LOCATION:Hermosa Beach Community Theater 710 Pier Ave Hermosa Beach\, CA 90254
UID:e.2438.11013
SEQUENCE:3
DTSTAMP:20260422T192658Z
URL:https://business.hbchamber.net/events/details/miss-california-volunteer-pageant-11013
END:VEVENT

END:VCALENDAR
