BEGIN:VCALENDAR
VERSION:2.0
PRODID:-//ChamberMaster//Event Calendar 2.0//EN
METHOD:PUBLISH
X-PUBLISHED-TTL:P3D
REFRESH-INTERVAL:P3D
CALSCALE:GREGORIAN
BEGIN:VEVENT
DTSTART:20250322T170000Z
DTEND:20250322T200000Z
X-MICROSOFT-CDO-ALLDAYEVENT:FALSE
SUMMARY:Mini Retreat: Coping With Uncertainty
DESCRIPTION:Many people are reeling from the various stressors of modern life: social unrest\, economic uncertainty\, and a general lack of direction and lack of purpose in life.\n\nIn this course we will explore how to not only cope with\, but use these conditions as an opportunity for introspection and transformation. Learn the basics of Buddhist meditation and psychology\, and gain practical experience of tools that you can use to:\n\n\n	Develop peace within your own mind\n	Gain insight into how your mind works\n	Become a better\, happier version of yourself
X-ALT-DESC;FMTTYPE=text/html:<p>Many people are reeling from the various stressors of modern life: social unrest\, economic uncertainty\, and a general lack of direction and lack of purpose in life.</p>\n\n<p>In this course we will explore how to not only cope with\, but use these conditions as an opportunity for introspection and transformation. Learn the basics of Buddhist meditation and psychology\, and gain practical experience of tools that you can use to:</p>\n\n<ul>\n	<li>Develop peace within your own mind</li>\n	<li>Gain insight into how your mind works</li>\n	<li>Become a better\, happier version of yourself</li>\n</ul>\n
LOCATION:Mahamudra Kadampa Meditation Center 500 6th St Hermosa Beach\, CA 90254
UID:e.2438.11450
SEQUENCE:3
DTSTAMP:20260422T192308Z
URL:https://business.hbchamber.net/events/details/mini-retreat-coping-with-uncertainty-11450
END:VEVENT

END:VCALENDAR
