BEGIN:VCALENDAR
VERSION:2.0
PRODID:-//ChamberMaster//Event Calendar 2.0//EN
METHOD:PUBLISH
X-PUBLISHED-TTL:P3D
REFRESH-INTERVAL:P3D
CALSCALE:GREGORIAN
BEGIN:VEVENT
DTSTART:20250520T190000Z
DTEND:20250520T203000Z
X-MICROSOFT-CDO-ALLDAYEVENT:FALSE
SUMMARY:Mindful Connections Wellness Workshops with South Bay Adult School
DESCRIPTION:Mindful Connections Wellness Workshops: Mindful Connections is the go-to place for you to gain valuable insight and practical tools to help shift your mindset and improve your quality of life. You are welcome to attend one or multiple sessions during this 7-week series. We ask that all participants be age 18 and older to receive services at South Bay Adult School. South Bay Adult School\, 3401 Inglewood Ave.\, Redondo Beach\, Room 10 and adjacent patio.  Register at: www.bchd.org/series.
X-ALT-DESC;FMTTYPE=text/html:Mindful Connections Wellness Workshops: Mindful Connections is the go-to place for you to gain valuable insight and practical tools to help shift your mindset and improve your quality of life. You are welcome to attend one or multiple sessions during this 7-week series. We ask that all participants be age 18 and older to receive services at South Bay Adult School. South Bay Adult School\, 3401 Inglewood Ave.\, Redondo Beach\, Room 10 and adjacent patio.&nbsp\; Register at: <a href="http://www.bchd.org/series">www.bchd.org/series</a>.&nbsp\;
LOCATION:South Bay Adult School (Room 10 and adjacent patio) 3401 Inglewood Ave Redondo Beach\, CA
UID:e.2438.11539
SEQUENCE:3
DTSTAMP:20260422T225259Z
URL:https://business.hbchamber.net/events/details/mindful-connections-wellness-workshops-with-south-bay-adult-school-11539
END:VEVENT

END:VCALENDAR
