BEGIN:VCALENDAR
VERSION:2.0
PRODID:-//ChamberMaster//Event Calendar 2.0//EN
METHOD:PUBLISH
X-PUBLISHED-TTL:P3D
REFRESH-INTERVAL:P3D
CALSCALE:GREGORIAN
BEGIN:VEVENT
DTSTART:20250128T200000Z
DTEND:20250128T213000Z
X-MICROSOFT-CDO-ALLDAYEVENT:FALSE
SUMMARY:Mindful Connections Wellness Workshop
DESCRIPTION:Mindful Connections is the go-to place for you to gain valuable insight and practical tools to help shift your mindset and improve your quality of life.  \n\nwww.bchd.org/series
X-ALT-DESC;FMTTYPE=text/html:Mindful Connections is the go-to place for you to gain valuable insight and practical tools to help shift your mindset and improve your quality of life.&nbsp\;&nbsp\;<br />\n<a href="http://www.bchd.org/series">www.bchd.org/series</a>&nbsp\;
LOCATION:South Bay Adult School\, Room 10 and adjacent patio 3401 Inglewood Ave. Redondo Beach\, CA 90277
UID:e.2438.11093
SEQUENCE:3
DTSTAMP:20260422T140357Z
URL:https://business.hbchamber.net/events/details/mindful-connections-wellness-workshop-11093
END:VEVENT

END:VCALENDAR
