BEGIN:VCALENDAR
VERSION:2.0
PRODID:-//ChamberMaster//Event Calendar 2.0//EN
METHOD:PUBLISH
X-PUBLISHED-TTL:P3D
REFRESH-INTERVAL:P3D
CALSCALE:GREGORIAN
BEGIN:VEVENT
DTSTART:20250501T030000Z
DTEND:20250501T050000Z
X-MICROSOFT-CDO-ALLDAYEVENT:FALSE
SUMMARY:Mic Drop Media presents: Songwriter Showcase at Saint Rocke
DESCRIPTION:The Songwriter Showcase at Saint Rocke\, which is held the last Wednesday of every month. \n\n \n\nSubmissions are accepted at MicDropMedia.me   the deadline to submit is two weeks before the event. \n\n \n\nIt's not a contest\, so there are no entry fees or judges\, it's a curated showcase of 10-11 artists with a host. \n\n \n\nEach artist performs 2 original songs and can have any number of accompanying musicians they want. There is a full backline & production crew.
X-ALT-DESC;FMTTYPE=text/html:The Songwriter Showcase at Saint Rocke\, which is held the last Wednesday of every month.&nbsp\;<br />\n&nbsp\;<br />\nSubmissions are accepted at <a href="http://MicDropMedia.me">MicDropMedia.me</a> &ndash\; the deadline to submit is two weeks before the event.&nbsp\;<br />\n&nbsp\;<br />\nIt&rsquo\;s not a contest\, so there are no entry fees or judges\, it&rsquo\;s a curated showcase of 10-11 artists with a host.&nbsp\;<br />\n&nbsp\;<br />\nEach artist performs 2 original songs and can have any number of accompanying musicians they want. There is a full backline &amp\; production crew.
LOCATION:Saint Rocke 142 Pacific Coast Hwy\, Hermosa Beach\, CA 90254
UID:e.2438.11594
SEQUENCE:3
DTSTAMP:20260422T210913Z
URL:https://business.hbchamber.net/events/details/mic-drop-media-presents-songwriter-showcase-at-saint-rocke-11594
END:VEVENT

END:VCALENDAR
