BEGIN:VCALENDAR
VERSION:2.0
PRODID:-//ChamberMaster//Event Calendar 2.0//EN
METHOD:PUBLISH
X-PUBLISHED-TTL:P3D
REFRESH-INTERVAL:P3D
CALSCALE:GREGORIAN
BEGIN:VEVENT
DTSTART:20250509T160000Z
DTEND:20250509T230000Z
X-MICROSOFT-CDO-ALLDAYEVENT:FALSE
SUMMARY:Mental Health First Aid Training
DESCRIPTION:Mental Health First Aid (MHFA) training teaches how to recognize and support individuals experiencing mental health challenges. You'll learn how to assess risk factors\, provide initial support\, and connect individuals to professional resources when needed. Attendees will have the opportunity to take home a free Narcan (brand name of naloxone) kit. For more information and to register\, please visit www.bchd.org/mentalhealthtraining.
X-ALT-DESC;FMTTYPE=text/html:Mental Health First Aid (MHFA) training teaches how to recognize and support individuals experiencing mental health challenges. You&#39\;ll learn how to assess risk factors\, provide initial support\, and connect individuals to professional resources when needed. Attendees will have the opportunity to take home a free Narcan (brand name of naloxone) kit. For more information and to register\, please visit <a href="http://www.bchd.org/mentalhealthtraining">www.bchd.org/mentalhealthtraining</a>.&nbsp\;
LOCATION:Beach Cities Room (lower level) 514 N Prospect Ave Redondo Beach\, CA
UID:e.2438.11534
SEQUENCE:3
DTSTAMP:20260422T224620Z
URL:https://business.hbchamber.net/events/details/mental-health-first-aid-training-11534
END:VEVENT

END:VCALENDAR
