BEGIN:VCALENDAR
VERSION:2.0
PRODID:-//ChamberMaster//Event Calendar 2.0//EN
METHOD:PUBLISH
X-PUBLISHED-TTL:P3D
REFRESH-INTERVAL:P3D
CALSCALE:GREGORIAN
BEGIN:VEVENT
DTSTART:20250110T170000Z
DTEND:20250111T000000Z
X-MICROSOFT-CDO-ALLDAYEVENT:FALSE
SUMMARY:Mental Health First Aid Training
DESCRIPTION:Mental Health First Aid is a certification from the National Council for Mental Health. Similar to how CPR training teaches individuals how to respond to medical emergencies\, Mental Health First Aid teaches how to provide support to people experiencing mental health challenges. It is an 8-hour training that requires 2 hours of pre-work and 6 hours of in-person instruction. Lunch will be provided for attendees as well as training materials. \n\nhttps://www.bchd.org/mentalhealthtraining
X-ALT-DESC;FMTTYPE=text/html:<a href="https://urldefense.com/v3/__https:/www.mentalhealthfirstaid.org/__\;!!AxJhxnnVZ8w!LBfUhP0uYa_pvmGq-t9stDNTLavInLEShLdW-0t1TXbM9YpoChnOJE3vkG8MU9aZECdnhcD45hcUI8QBQsFakHlngsMwRTzCGA$">Mental Health First Aid</a> is a certification from the National Council for Mental Health. Similar to how CPR training teaches individuals how to respond to medical emergencies\, Mental Health First Aid teaches how to provide support to people experiencing mental health challenges. It is an 8-hour training that requires 2 hours of pre-work and 6 hours of in-person instruction. Lunch will be provided for attendees as well as training materials.&nbsp\;<br />\n<a href="https://www.bchd.org/mentalhealthtraining">https://www.bchd.org/mentalhealthtraining</a>&nbsp\;
LOCATION:514 N. Prospect Ave.\, Lower Level\, Beach Cities Room Redondo Beach\, CA 90277
UID:e.2438.11073
SEQUENCE:3
DTSTAMP:20260422T141602Z
URL:https://business.hbchamber.net/events/details/mental-health-first-aid-training-11073
END:VEVENT

END:VCALENDAR
