BEGIN:VCALENDAR
VERSION:2.0
PRODID:-//ChamberMaster//Event Calendar 2.0//EN
METHOD:PUBLISH
X-PUBLISHED-TTL:P3D
REFRESH-INTERVAL:P3D
CALSCALE:GREGORIAN
BEGIN:VEVENT
DTSTART:20250617T004500Z
DTEND:20250617T014500Z
X-MICROSOFT-CDO-ALLDAYEVENT:FALSE
SUMMARY:Medium Monday @ Uncorked Manhattan Beach
DESCRIPTION:Join us and resident Psychic Medium Jennifer Shaffer at Uncorked for a group reading and a glass of wine.
X-ALT-DESC;FMTTYPE=text/html:Join us and resident Psychic Medium Jennifer Shaffer at Uncorked for a group reading and a glass of wine.
LOCATION:Uncorked Manhattan Beach 1000 Manhattan Ave Manhattan Beach\, CA
UID:e.2438.12383
SEQUENCE:3
DTSTAMP:20260423T003151Z
URL:https://business.hbchamber.net/events/details/medium-monday-uncorked-manhattan-beach-12383
END:VEVENT

END:VCALENDAR
