BEGIN:VCALENDAR
VERSION:2.0
PRODID:-//ChamberMaster//Event Calendar 2.0//EN
METHOD:PUBLISH
X-PUBLISHED-TTL:P3D
REFRESH-INTERVAL:P3D
CALSCALE:GREGORIAN
BEGIN:VEVENT
DTSTART:20220315T013000Z
DTEND:20220315T030000Z
X-MICROSOFT-CDO-ALLDAYEVENT:FALSE
SUMMARY:Medium Monday
DESCRIPTION:Join us as resident Psychic Medium Jennifer Shaffer gathers 10-15 people at Uncorked for a group reading\n\n \n\nCall the shop at 424-247-7117 for an update on availability and to reserve your spot to experience the amazing Jennifer Shaffer.\n\nWe predict a full house!\n\nVisit JenniferShaffer.com
X-ALT-DESC;FMTTYPE=text/html:<p style="box-sizing: border-box\; overflow-wrap: break-word\; margin: 0px 0px 10px\; line-height: 1.7\; color: rgb(0\, 0\, 0)\; font-family: Montserrat\, sans-serif\; font-size: 16px\; text-align: center\;"><span style="box-sizing: border-box\; font-family: Montserrat\; font-size: 18pt\;">Join us as resident Psychic Medium Jennifer Shaffer gathers 10-15 people at Uncorked for a group reading</span></p>\n\n<div style="box-sizing: border-box\; color: rgb(0\, 0\, 0)\; font-family: Montserrat\, sans-serif\; font-size: 16px\;"><span style="box-sizing: border-box\; font-family: Montserrat\;"><span style="box-sizing: border-box\; font-size: 24px\;"><span style="box-sizing: border-box\; font-weight: bolder\;"><i style="box-sizing: border-box\;">&nbsp\;</i></span></span></span></div>\n\n<p style="box-sizing: border-box\; overflow-wrap: break-word\; margin: 0px 0px 10px\; line-height: 1.7\; color: rgb(0\, 0\, 0)\; font-family: Montserrat\, sans-serif\; font-size: 16px\; text-align: center\;"><span style="box-sizing: border-box\; font-family: Montserrat\; font-size: 18pt\;">Call the shop at 424-247-7117 for an update on availability and to reserve your spot to experience the amazing Jennifer Shaffer.</span></p>\n\n<p style="box-sizing: border-box\; overflow-wrap: break-word\; margin: 0px 0px 10px\; line-height: 1.7\; color: rgb(0\, 0\, 0)\; font-family: Montserrat\, sans-serif\; font-size: 16px\; text-align: center\;"><span style="box-sizing: border-box\; font-family: Montserrat\; font-size: 18pt\;">We predict a full house!</span></p>\n\n<p style="box-sizing: border-box\; overflow-wrap: break-word\; margin: 0px 0px 10px\; line-height: 1.7\; color: rgb(0\, 0\, 0)\; font-family: Montserrat\, sans-serif\; font-size: 16px\; text-align: center\;"><span style="box-sizing: border-box\; font-family: Montserrat\; font-size: 14pt\;"><span style="box-sizing: border-box\; font-size: 12pt\;">Visit&nbsp\;</span><span style="box-sizing: border-box\; font-size: 12pt\;"><a href="http://www.jennifershaffer.com/" rel="noopener noreferrer" style="box-sizing: border-box\; text-decoration-line: none\; color: var(--tec-color-link-accent)\; background-color: transparent\;" target="_blank">JenniferShaffer.com</a></span></span></p>\n
LOCATION:Uncorked Wine Shops 302 Pier Ave. Hermosa Beach\, 90254
UID:e.2438.5275
SEQUENCE:3
DTSTAMP:20260421T113631Z
URL:https://business.hbchamber.net/events/details/medium-monday-5275
END:VEVENT

END:VCALENDAR
