BEGIN:VCALENDAR
VERSION:2.0
PRODID:-//ChamberMaster//Event Calendar 2.0//EN
METHOD:PUBLISH
X-PUBLISHED-TTL:P3D
REFRESH-INTERVAL:P3D
CALSCALE:GREGORIAN
BEGIN:VEVENT
DTSTART:20241201T190000Z
DTEND:20241201T201500Z
X-MICROSOFT-CDO-ALLDAYEVENT:FALSE
SUMMARY:Meditation Class
DESCRIPTION:Access the power of your mind. Through the powerful tool of meditation\, we can discover that the actual causes of lasting contentment lie within the mind. Everyone can practice meditation!
X-ALT-DESC;FMTTYPE=text/html:Access the power of your mind. Through the powerful tool of meditation\, we can discover that the actual causes of lasting contentment lie within the mind. Everyone can practice meditation!
LOCATION:Mahamudra Kadampa Meditation Center
UID:e.2438.10355
SEQUENCE:3
DTSTAMP:20260422T173056Z
URL:https://business.hbchamber.net/events/details/meditation-class-12-01-2024-10355
END:VEVENT

END:VCALENDAR
