BEGIN:VCALENDAR
VERSION:2.0
PRODID:-//ChamberMaster//Event Calendar 2.0//EN
METHOD:PUBLISH
X-PUBLISHED-TTL:P3D
REFRESH-INTERVAL:P3D
CALSCALE:GREGORIAN
BEGIN:VEVENT
DTSTART:20250511T180000Z
DTEND:20250511T191500Z
X-MICROSOFT-CDO-ALLDAYEVENT:FALSE
SUMMARY:Meditation Class
DESCRIPTION:Access the power of your mind. Through the powerful tool of meditation\, we can discover that the actual causes of lasting contentment lie within the mind. Everyone can practice meditation!
X-ALT-DESC;FMTTYPE=text/html:Access the power of your mind. Through the powerful tool of meditation\, we can discover that the actual causes of lasting contentment lie within the mind. Everyone can practice meditation!
LOCATION:Mahamudra Kadampa Meditation Center
UID:e.2438.10378
SEQUENCE:3
DTSTAMP:20260422T224620Z
URL:https://business.hbchamber.net/events/details/meditation-class-05-11-2025-10378
END:VEVENT

END:VCALENDAR
