BEGIN:VCALENDAR
VERSION:2.0
PRODID:-//ChamberMaster//Event Calendar 2.0//EN
METHOD:PUBLISH
X-PUBLISHED-TTL:P3D
REFRESH-INTERVAL:P3D
CALSCALE:GREGORIAN
BEGIN:VEVENT
DTSTART:20250302T190000Z
DTEND:20250302T201500Z
X-MICROSOFT-CDO-ALLDAYEVENT:FALSE
SUMMARY:Meditation Class
DESCRIPTION:Access the power of your mind. Through the powerful tool of meditation\, we can discover that the actual causes of lasting contentment lie within the mind. Everyone can practice meditation!
X-ALT-DESC;FMTTYPE=text/html:Access the power of your mind. Through the powerful tool of meditation\, we can discover that the actual causes of lasting contentment lie within the mind. Everyone can practice meditation!
LOCATION:Mahamudra Kadampa Meditation Center
UID:e.2438.10368
SEQUENCE:3
DTSTAMP:20260422T210049Z
URL:https://business.hbchamber.net/events/details/meditation-class-03-02-2025-10368
END:VEVENT

END:VCALENDAR
