BEGIN:VCALENDAR
VERSION:2.0
PRODID:-//ChamberMaster//Event Calendar 2.0//EN
METHOD:PUBLISH
X-PUBLISHED-TTL:P3D
REFRESH-INTERVAL:P3D
CALSCALE:GREGORIAN
BEGIN:VEVENT
DTSTART:20220402T160000Z
DTEND:20220402T180000Z
X-MICROSOFT-CDO-ALLDAYEVENT:FALSE
SUMMARY:Mayor's Monthly Conversation & Clean-Up
DESCRIPTION:Come join Mayor Mike Detoy and Public Works Director Joe SanClemente to learn more about the efforts underway to make the Greenbelt compliant with the Americans with Disabilities Act. To make the Greenbelt accessible to our residents who use wheelchairs\, there will be a temporary installation of the Mobi-Mat to provide short-term accessibility. Come experience the Greenbelt.
X-ALT-DESC;FMTTYPE=text/html:<span style="color: rgb(21\, 27\, 33)\; font-family: Cabin\, sans-serif\; font-size: 18px\; background-color: rgb(247\, 246\, 244)\;">Come join Mayor Mike Detoy and Public Works Director Joe SanClemente to learn more about the efforts underway to make the Greenbelt compliant with the Americans with Disabilities Act. To make the Greenbelt accessible to our residents who use wheelchairs\, there will be a temporary installation of the Mobi-Mat to provide short-term accessibility. Come experience the Greenbelt.</span>
LOCATION:Greenbelt Valley Drive Hermosa Beach\, California 90254
UID:e.2438.5390
SEQUENCE:3
DTSTAMP:20260421T091511Z
URL:https://business.hbchamber.net/events/details/mayor-s-monthly-conversation-clean-up-5390
END:VEVENT

END:VCALENDAR
