BEGIN:VCALENDAR
VERSION:2.0
PRODID:-//ChamberMaster//Event Calendar 2.0//EN
METHOD:PUBLISH
X-PUBLISHED-TTL:P3D
REFRESH-INTERVAL:P3D
CALSCALE:GREGORIAN
BEGIN:VEVENT
DTSTART:20220226T170000Z
DTEND:20220226T190000Z
X-MICROSOFT-CDO-ALLDAYEVENT:FALSE
SUMMARY:Mayor Detoy's Monthly Conversations & Clean-Up
DESCRIPTION:Join us this Saturday\, February 26th at 9 am for our monthly conversation and clean-up!!! This month\, we will be gathering at Edith Roadway Friendship Park (350 Prospect) and cleaning up the surrounding area.\n\n\n\nWe will have our local representative from @athensservices to discuss the new organic recycling\, updates on the cannabis initiative and much more.
X-ALT-DESC;FMTTYPE=text/html:<span style="color: rgb(38\, 38\, 38)\; font-family: -apple-system\, &quot\;system-ui&quot\;\, &quot\;Segoe UI&quot\;\, Roboto\, Helvetica\, Arial\, sans-serif\; font-size: 14px\;">Join us this Saturday\, February 26th at 9 am for our monthly conversation and clean-up!!! This month\, we will be gathering at Edith Roadway Friendship Park (350 Prospect) and cleaning up the surrounding area.</span><br style="color: rgb(38\, 38\, 38)\; font-family: -apple-system\, &quot\;system-ui&quot\;\, &quot\;Segoe UI&quot\;\, Roboto\, Helvetica\, Arial\, sans-serif\; font-size: 14px\;" />\n<br style="color: rgb(38\, 38\, 38)\; font-family: -apple-system\, &quot\;system-ui&quot\;\, &quot\;Segoe UI&quot\;\, Roboto\, Helvetica\, Arial\, sans-serif\; font-size: 14px\;" />\n<span style="color: rgb(38\, 38\, 38)\; font-family: -apple-system\, &quot\;system-ui&quot\;\, &quot\;Segoe UI&quot\;\, Roboto\, Helvetica\, Arial\, sans-serif\; font-size: 14px\;">We will have our local representative from&nbsp\;</span><a class="notranslate" href="https://www.instagram.com/athensservices/" style="margin: 0px\; padding: 0px\; border: 0px\; font-variant-numeric: inherit\; font-variant-east-asian: inherit\; font-stretch: inherit\; font-size: 14px\; line-height: inherit\; font-family: -apple-system\, &quot\;system-ui&quot\;\, &quot\;Segoe UI&quot\;\, Roboto\, Helvetica\, Arial\, sans-serif\; vertical-align: baseline\; color: rgba(var(--fe0\,0\,55\,107)\,1)\; text-decoration-line: none\;" tabindex="0">@athensservices</a><span style="color: rgb(38\, 38\, 38)\; font-family: -apple-system\, &quot\;system-ui&quot\;\, &quot\;Segoe UI&quot\;\, Roboto\, Helvetica\, Arial\, sans-serif\; font-size: 14px\;">&nbsp\;to discuss the new organic recycling\, updates on the cannabis initiative and much more.</span>
LOCATION:Edith Roadway Friendship Park\, 350 Prospect Ave. Hermosa Beach\, 90254
UID:e.2438.5277
SEQUENCE:3
DTSTAMP:20260421T133103Z
URL:https://business.hbchamber.net/events/details/mayor-detoy-s-monthly-conversations-clean-up-5277
END:VEVENT

END:VCALENDAR
