BEGIN:VCALENDAR
VERSION:2.0
PRODID:-//ChamberMaster//Event Calendar 2.0//EN
METHOD:PUBLISH
X-PUBLISHED-TTL:P3D
REFRESH-INTERVAL:P3D
CALSCALE:GREGORIAN
BEGIN:VEVENT
DTSTART:20250522T230000Z
DTEND:20250523T030000Z
X-MICROSOFT-CDO-ALLDAYEVENT:FALSE
SUMMARY:"Maya and the Wave" Film Screening
DESCRIPTION:South Bay Boardriders Club will host a film screening of "Maya and the Wave" at the Community Theatre with a pre-event reception including live music within the Courtyard of the Community Center.\n\n\n\nFor more information\, visit www.southbayboardriders.org.
X-ALT-DESC;FMTTYPE=text/html:South Bay Boardriders Club will host a film screening of &ldquo\;Maya and the Wave&rdquo\; at the Community Theatre with a pre-event reception including live music within the Courtyard of the Community Center.<br />\n<br />\nFor more information\, visit <a href="http://www.southbayboardriders.org">www.southbayboardriders.org</a>.
LOCATION:Community Center - Community Theatre 710 Pier Avenue Hermosa Beach\, California 90254
UID:e.2438.11577
SEQUENCE:3
DTSTAMP:20260422T224646Z
URL:https://business.hbchamber.net/events/details/maya-and-the-wave-film-screening-11577
END:VEVENT

END:VCALENDAR
