BEGIN:VCALENDAR
VERSION:2.0
PRODID:-//ChamberMaster//Event Calendar 2.0//EN
METHOD:PUBLISH
X-PUBLISHED-TTL:P3D
REFRESH-INTERVAL:P3D
CALSCALE:GREGORIAN
BEGIN:VEVENT
DTSTART:20211022T230000Z
DTEND:20211023T010000Z
X-MICROSOFT-CDO-ALLDAYEVENT:FALSE
SUMMARY:Malia Kowal's Gold Award Project
DESCRIPTION:Girl Scouts to Earn Marine Science Fun Patch at Roundhouse Aquarium with Curriculum Created and Presented by Ambassador Malia Kowal for Gold Award Exploring Tide Pools with the Roundhouse Aquarium Ocean Life Patch for Daisies through Juniors
X-ALT-DESC;FMTTYPE=text/html:Girl Scouts to Earn Marine Science Fun Patch at Roundhouse Aquarium with Curriculum Created and Presented by Ambassador Malia Kowal for Gold Award Exploring Tide Pools with the Roundhouse Aquarium Ocean Life Patch for Daisies through Juniors
LOCATION:Roundhouse Aquarium at the End of the Manhattan Beach Pier for Day 1 Via Zoom for Day 2 (Zoom link will be provided following registration and completion of Day 1 session
UID:e.2438.4693
SEQUENCE:3
DTSTAMP:20260421T222800Z
URL:https://business.hbchamber.net/events/details/malia-kowal-s-gold-award-project-4693
END:VEVENT

END:VCALENDAR
