BEGIN:VCALENDAR
VERSION:2.0
PRODID:-//ChamberMaster//Event Calendar 2.0//EN
METHOD:PUBLISH
X-PUBLISHED-TTL:P3D
REFRESH-INTERVAL:P3D
CALSCALE:GREGORIAN
BEGIN:VEVENT
DTSTART:20211024T040000Z
DTEND:20211024T060000Z
X-MICROSOFT-CDO-ALLDAYEVENT:FALSE
SUMMARY:Malia Kowal's Gold Award Project
DESCRIPTION:Girl Scouts to Earn Marine Science Fun Patch at Roundhouse Aquarium with Curriculum Created and Presented by Ambassador Malia Kowal for Gold Award Marine Mammals of the Santa Monica Bay with the Roundhouse Aquarium Cadette through Ambassador Scouts Marine Biology for Cadettes through Ambassadors
X-ALT-DESC;FMTTYPE=text/html:Girl Scouts to Earn Marine Science Fun Patch at Roundhouse Aquarium with Curriculum Created and Presented by Ambassador Malia Kowal for Gold Award Marine Mammals of the Santa Monica Bay with the Roundhouse Aquarium Cadette through Ambassador Scouts Marine Biology for Cadettes through Ambassadors
LOCATION:Roundhouse Aquarium at the End of the Manhattan Beach Pier for Day 1 Via Zoom for Day 2 (Zoom link will be provided following registration and completion of Day 1 session
UID:e.2438.4694
SEQUENCE:3
DTSTAMP:20260421T222457Z
URL:https://business.hbchamber.net/events/details/malia-kowal-s-gold-award-project-10-23-2021-4694
END:VEVENT

END:VCALENDAR
