BEGIN:VCALENDAR
VERSION:2.0
PRODID:-//ChamberMaster//Event Calendar 2.0//EN
METHOD:PUBLISH
X-PUBLISHED-TTL:P3D
REFRESH-INTERVAL:P3D
CALSCALE:GREGORIAN
BEGIN:VEVENT
DTSTART:20241112T200000Z
DTEND:20241112T213000Z
X-MICROSOFT-CDO-ALLDAYEVENT:FALSE
SUMMARY:Lunch & Learn Series: Future-Proof Your Business w/ Chase Law Group
DESCRIPTION:Future-Proof Your Business: Legal Updates for 2025\n\n\n\nReady to take on 2025 with confidence? As new laws and regulations come into play\, staying ahead is crucial for every business. Join the Hermosa Chamber and Chase Law Group for a must-attend session where you'll discover the latest legal updates\, practical insights\, and strategies to prepare your business for the year ahead\, all over a delicious meal at Rockefeller.\n\nTopics We'll Cover:\n\n\n	Employment Law Updates: Navigate wage adjustments\, employee classifications\, and remote work regulations.\n	Business Structure Check: Ensure your entity aligns with fresh tax and liability standards.\n	Contracts That Protect: Draft and negotiate contracts to safeguard your interests in a dynamic economy.\n\n\n\n\nAbout the speaker\, DeAnn Chase:\n\nDeAnn Chase is a Business Attorney\, Legal Strategist\, and founder of Chase Law Group. With over 25 years of experience\, DeAnn has helped countless business owners create solid legal foundations and defended businesses of all sizes. Recognized with numerous accolades\, including the Martindale-Hubbell AV Preeminent Peer Review Rating and being named a "Woman to Watch" by the Los Angeles Business Journal\, DeAnn is passionate about helping business owners avoid costly legal mistakes.\n\n\n\nAgenda:\n\n12:00 PM | Check-in\n\n12:05 - 12:30 PM | Networking & eating\n\n12:30 PM | Presentation by DeAnn Chase\n\n1:15 PM | Q&A\n\n1:30 PM | Event ends
X-ALT-DESC;FMTTYPE=text/html:<p style="font-family: Arial\, Helvetica\, sans-serif\; color: rgb(0\, 0\, 0)\;"><i style="caret-color: rgb(0\, 0\, 0)\; color: rgb(0\, 0\, 0)\; font-family: arial\, sans-serif\;"><strong>Future-Proof Your Business: Legal Updates for 2025</strong></i><br />\n<br />\n<font face="arial\, sans-serif">Ready to take on 2025 with confidence? As new laws and regulations come into play\, staying ahead is crucial for every business. Join the Hermosa Chamber and Chase Law Group for a must-attend session where you&rsquo\;ll discover the latest legal updates\, practical insights\, and strategies to prepare your business for the year ahead\, all over a delicious meal at Rockefeller.</font></p>\n\n<p style="font-family: Arial\, Helvetica\, sans-serif\; color: rgb(0\, 0\, 0)\;"><font face="arial\, sans-serif"><b>Topics We&rsquo\;ll Cover:</b></font></p>\n\n<ul style="font-family: Arial\, Helvetica\, sans-serif\; color: rgb(0\, 0\, 0)\;">\n	<li style="margin-left: 15px\;"><font face="arial\, sans-serif"><strong>Employment Law Updates:</strong>&nbsp\;Navigate wage adjustments\, employee classifications\, and remote work regulations.</font></li>\n	<li style="margin-left: 15px\;"><font face="arial\, sans-serif"><strong>Business Structure Check:</strong>&nbsp\;Ensure your entity aligns with fresh tax and liability standards.</font></li>\n	<li style="margin-left: 15px\;"><font face="arial\, sans-serif"><strong>Contracts That Protect</strong>:&nbsp\;Draft and negotiate contracts to safeguard your interests in a dynamic economy.</font></li>\n</ul>\n\n<div style="caret-color: rgb(34\, 34\, 34)\; color: rgb(34\, 34\, 34)\; font-family: Arial\, Helvetica\, sans-serif\;">\n<div style="caret-color: rgb(34\, 34\, 34)\; color: rgb(34\, 34\, 34)\; font-family: Arial\, Helvetica\, sans-serif\;">\n<div><span style="color:#000000\;"><font face="arial\, sans-serif"><b>About the speaker\, DeAnn Chase:</b><br />\n<span class="im">DeAnn Chase is a Business Attorney\, Legal Strategist\, and founder of Chase Law Group. With over 25 years of experience\, DeAnn has helped countless business owners create solid legal foundations and defended businesses of all sizes. Recognized with numerous accolades\, including the Martindale-Hubbell AV Preeminent Peer Review Rating and being named a &quot\;Woman to Watch&quot\; by the Los Angeles Business Journal\, DeAnn is passionate about helping business owners avoid costly legal mistakes.</span></font></span><br />\n<br />\n<strong>Agenda:</strong><br />\n12:00 PM | Check-in<br />\n12:05 - 12:30&nbsp\;PM | Networking &amp\; eating<br />\n12:30 PM | Presentation by DeAnn Chase<br />\n1:15 PM | Q&amp\;A<br />\n1:30 PM | Event ends</div>\n</div>\n</div>\n
LOCATION:Rockefeller 418 Pier Avenue Hermosa Beach\, CA 90254
UID:e.2438.10795
SEQUENCE:3
DTSTAMP:20260422T192719Z
URL:https://business.hbchamber.net/events/details/lunch-learn-series-future-proof-your-business-w-chase-law-group-10795
END:VEVENT

END:VCALENDAR
