BEGIN:VCALENDAR
VERSION:2.0
PRODID:-//ChamberMaster//Event Calendar 2.0//EN
METHOD:PUBLISH
X-PUBLISHED-TTL:P3D
REFRESH-INTERVAL:P3D
CALSCALE:GREGORIAN
BEGIN:VEVENT
DTSTART:20220401T160000Z
DTEND:20220405T160000Z
X-MICROSOFT-CDO-ALLDAYEVENT:FALSE
SUMMARY:Lunafest 2022
DESCRIPTION:Soroptimist of Manhattan Beach is happy to announce our 16th annual Lunafest! This is a virtual women focused film festival with 8 short films about women\, made by women.This fundraiser supports our mission to improve access to education opportunities for women and girls\; and we also engage in other support programs focused on women. We have over 50 members who live and work in the South Bay. See you at the movies!
X-ALT-DESC;FMTTYPE=text/html:Soroptimist of Manhattan Beach is happy to announce our 16th annual Lunafest! This is a virtual women focused film festival with 8 short films about women\, made by women.This fundraiser supports our mission to improve access to education opportunities for women and girls\; and we also engage in other support programs focused on women. We have over 50 members who live and work in the South Bay. See you at the movies!
LOCATION:This is a Virutal event
UID:e.2438.5381
SEQUENCE:3
DTSTAMP:20260421T091251Z
URL:https://business.hbchamber.net/events/details/lunafest-2022-5381
END:VEVENT

END:VCALENDAR
