BEGIN:VCALENDAR
VERSION:2.0
PRODID:-//ChamberMaster//Event Calendar 2.0//EN
METHOD:PUBLISH
X-PUBLISHED-TTL:P3D
REFRESH-INTERVAL:P3D
CALSCALE:GREGORIAN
BEGIN:VEVENT
DTSTART:20240210T210000Z
DTEND:20240211T010000Z
X-MICROSOFT-CDO-ALLDAYEVENT:FALSE
SUMMARY:LOVEFEST @ The Bungalow
DESCRIPTION:show us some LOVE        \n\n\n\njoin us for our annual LOVEFEST on 2/10 down at The Bungalow!!\n\n\n\nI'll be launching a new hat and flannel LOVE collection     & we have some special guests that you won't want to miss  \n\n\n\n@mischelstruth will be offering her incredible tarot readings & @indigotiger.tattooclub will be doing stick & poke tattoos all afternoon    \n\n\n\nsee you love bugs soon
X-ALT-DESC;FMTTYPE=text/html:show us some LOVE &#129312\;&#128152\;&#10024\;&#129705\;&#129782\;&#127995\;&#127870\;<br />\n<br />\njoin us for our annual LOVEFEST on 2/10 down at The Bungalow!!<br />\n<br />\nI&rsquo\;ll be launching a new hat and flannel LOVE collection &#10084\;&#65039\;&#129312\; &amp\; we have some special guests that you won&rsquo\;t want to miss &hellip\;<br />\n<br />\n@mischelstruth will be offering her incredible tarot readings &amp\; @indigotiger.tattooclub will be doing stick &amp\; poke tattoos all afternoon &#128302\;&#10024\;&#129697\;<br />\n<br />\nsee you love bugs soon<br />\n&#10060\;&#11093\;&#65039\;&#10060\;&#11093\;&#65039\;
LOCATION:The Bungalow 52 11th St. Hermosa Beach\, CA 90254
UID:e.2438.9358
SEQUENCE:3
DTSTAMP:20260419T131519Z
URL:https://business.hbchamber.net/events/details/lovefest-the-bungalow-9358
END:VEVENT

END:VCALENDAR
