BEGIN:VCALENDAR
VERSION:2.0
PRODID:-//ChamberMaster//Event Calendar 2.0//EN
METHOD:PUBLISH
X-PUBLISHED-TTL:P3D
REFRESH-INTERVAL:P3D
CALSCALE:GREGORIAN
BEGIN:VEVENT
DTSTART:20250222T222000Z
DTEND:20250223T050000Z
X-MICROSOFT-CDO-ALLDAYEVENT:FALSE
SUMMARY:Love Los Angeles Style: Art Exhibition & Fundraiser
DESCRIPTION:Join us for Love LA Style\, a celebration of art\, music\, and community hosted by Indivisible Arts. This special fundraiser and art exhibition unites talented artists from all over Los Angeles\, showcasing artwork that fundraises for LA Community Fire Relief Fund\, benefitting those impacted by the LA fires.\n\nThis event is being produced alongside Jim Taz Evans\, GuerillaOne\, Southbay Magazine\, Artists for Trauma\, and Love Los Angeles Style.
X-ALT-DESC;FMTTYPE=text/html:Join us for <em>Love LA Style</em>\, a celebration of art\, music\, and community hosted by Indivisible Arts. This special fundraiser and art exhibition unites talented artists from all over Los Angeles\, showcasing artwork that fundraises for LA Community Fire Relief Fund\, benefitting those impacted by the LA fires.<br />\nThis event is being produced alongside Jim Taz Evans\, GuerillaOne\, Southbay Magazine\, Artists for Trauma\, and Love Los Angeles Style.&nbsp\;
LOCATION:Resin/Indivisible Arts 618 Cypress Avenue Hermosa Beach\, CA 90254
UID:e.2438.11414
SEQUENCE:3
DTSTAMP:20260420T125154Z
URL:https://business.hbchamber.net/events/details/love-los-angeles-style-art-exhibition-fundraiser-11414
END:VEVENT

END:VCALENDAR
