BEGIN:VCALENDAR
VERSION:2.0
PRODID:-//ChamberMaster//Event Calendar 2.0//EN
METHOD:PUBLISH
X-PUBLISHED-TTL:P3D
REFRESH-INTERVAL:P3D
CALSCALE:GREGORIAN
BEGIN:VEVENT
DTSTART:20220203T200000Z
DTEND:20220203T213000Z
X-MICROSOFT-CDO-ALLDAYEVENT:FALSE
SUMMARY:LIVE WEBINAR: The Latest on Union Avoidance for Employers
DESCRIPTION:Presented by attorney Brett Sutton from Sutton Hague Law Corporation with special guest speaker Ryan Lile of IRI Consultants. The speakers will discuss the latest on union avoidance for employers.
X-ALT-DESC;FMTTYPE=text/html:Presented by attorney Brett Sutton from Sutton Hague Law Corporation with special guest speaker Ryan Lile of IRI Consultants. The speakers will discuss the latest on union avoidance for employers.
LOCATION:Online\, participants will join via computer
UID:e.2438.5062
SEQUENCE:3
DTSTAMP:20260421T133942Z
URL:https://business.hbchamber.net/events/details/live-webinar-the-latest-on-union-avoidance-for-employers-5062
END:VEVENT

END:VCALENDAR
