BEGIN:VCALENDAR
VERSION:2.0
PRODID:-//ChamberMaster//Event Calendar 2.0//EN
METHOD:PUBLISH
X-PUBLISHED-TTL:P3D
REFRESH-INTERVAL:P3D
CALSCALE:GREGORIAN
BEGIN:VEVENT
DTSTART:20220209T210000Z
DTEND:20220209T230000Z
X-MICROSOFT-CDO-ALLDAYEVENT:FALSE
SUMMARY:LIVE WEBINAR: Harassment Prevention and Anti-Bullying Training for Supervisors/Managers
DESCRIPTION:Presented by Attorney Brett Sutton from Sutton Hague Law Corporation. The training will meet all requirements for mandatory training under CA Law. Certificates will be issued. It is live and interactive. Two hours of HRCI/SHRM credits will be available.
X-ALT-DESC;FMTTYPE=text/html:Presented by Attorney Brett Sutton from Sutton Hague Law Corporation. The training will meet all requirements for mandatory training under CA Law. Certificates will be issued. It is live and interactive. Two hours of HRCI/SHRM credits will be available.
LOCATION:Online\, participants will join via computer
UID:e.2438.5061
SEQUENCE:3
DTSTAMP:20260421T134424Z
URL:https://business.hbchamber.net/events/details/live-webinar-harassment-prevention-and-anti-bullying-training-for-supervisors-managers-02-09-2022-5061
END:VEVENT

END:VCALENDAR
