BEGIN:VCALENDAR
VERSION:2.0
PRODID:-//ChamberMaster//Event Calendar 2.0//EN
METHOD:PUBLISH
X-PUBLISHED-TTL:P3D
REFRESH-INTERVAL:P3D
CALSCALE:GREGORIAN
BEGIN:VEVENT
DTSTART:20220210T210000Z
DTEND:20220210T220000Z
X-MICROSOFT-CDO-ALLDAYEVENT:FALSE
SUMMARY:LIVE WEBINAR: Harassment Prevention and Anti-Bullying Training for Non-Supervisors/Non-Managers
DESCRIPTION:Presented by Attorney Jared Hague from Sutton Hague Law Corporation. The training will meet all requirements for mandatory training under CA Law. Certificates will be issued. It is live and interactive. HRCI/SHRM credits will be available.
X-ALT-DESC;FMTTYPE=text/html:Presented by Attorney Jared Hague from Sutton Hague Law Corporation. The training will meet all requirements for mandatory training under CA Law. Certificates will be issued. It is live and interactive. HRCI/SHRM credits will be available.
LOCATION:Online\, participants will join via computer
UID:e.2438.5060
SEQUENCE:3
DTSTAMP:20260421T134251Z
URL:https://business.hbchamber.net/events/details/live-webinar-harassment-prevention-and-anti-bullying-training-for-non-supervisors-non-managers-5060
END:VEVENT

END:VCALENDAR
