BEGIN:VCALENDAR
VERSION:2.0
PRODID:-//ChamberMaster//Event Calendar 2.0//EN
METHOD:PUBLISH
X-PUBLISHED-TTL:P3D
REFRESH-INTERVAL:P3D
CALSCALE:GREGORIAN
BEGIN:VEVENT
DTSTART:20220219T220000Z
DTEND:20220220T010000Z
X-MICROSOFT-CDO-ALLDAYEVENT:FALSE
SUMMARY:Live Music @Uncorked: Brian Simon
DESCRIPTION:
X-ALT-DESC;FMTTYPE=text/html:
LOCATION:Uncorked Wine Shops 302 Pier Ave. Hermosa Beach\, 90254
UID:e.2438.5130
SEQUENCE:3
DTSTAMP:20260421T131636Z
URL:https://business.hbchamber.net/events/details/live-music-uncorked-brian-simon-5130
END:VEVENT

END:VCALENDAR
