BEGIN:VCALENDAR
VERSION:2.0
PRODID:-//ChamberMaster//Event Calendar 2.0//EN
METHOD:PUBLISH
X-PUBLISHED-TTL:P3D
REFRESH-INTERVAL:P3D
CALSCALE:GREGORIAN
BEGIN:VEVENT
DTSTART:20241025T000000Z
DTEND:20241025T004500Z
X-MICROSOFT-CDO-ALLDAYEVENT:FALSE
SUMMARY:Listening & Learning Treats with Dr. Wildes\, Superintendent
DESCRIPTION:At this meetings\, I'll be asking important questions\, such as:\n\n	What is going well in the District that you do not want to see changed?\n	What things do you think the District should consider doing differently?\n	What do you believe are the top three concerns for our students?\n	What are the top three concerns for our families?\n	How would you measure the success of HBCSD over the next few years?\n\nI'm eager to connect and hear your valuable insights. Your feedback is very important as we shape the future of our Hermosa Schools. I'm committed to maintaining open communication and ensuring your voice is central in this process.\n\n\n\nThank you for your continued support.\n\n\n\nWarm regards\,\n\nDr. Susan Wildes\n\nSuperintendent of Schools\, Hermosa Beach City School District
X-ALT-DESC;FMTTYPE=text/html:At this meetings\, I&#39\;ll be asking important questions\, such as:\n<ul>\n	<li>What is going well in the District that you do not want to see changed?</li>\n	<li>What things do you think the District should consider doing differently?</li>\n	<li>What do you believe are the top three concerns for our students?</li>\n	<li>What are the top three concerns for our families?</li>\n	<li>How would you measure the success of HBCSD over the next few years?</li>\n</ul>\nI&#39\;m eager to connect and hear your valuable insights. Your feedback is very important as we shape the future of our Hermosa Schools. I&#39\;m committed to maintaining open communication and ensuring your voice is central in this process.<br />\n<br />\nThank you for your continued support.<br />\n<br />\nWarm regards\,<br />\nDr. Susan Wildes<br />\nSuperintendent of Schools\, Hermosa Beach City School District
LOCATION:Hermosa Valley School\, Valley MPR 1645 Valley Dr Hermosa Beach\, CA 90254
UID:e.2438.10741
SEQUENCE:3
DTSTAMP:20260421T034509Z
URL:https://business.hbchamber.net/events/details/listening-learning-treats-with-dr-wildes-superintendent-10741
END:VEVENT

END:VCALENDAR
