BEGIN:VCALENDAR
VERSION:2.0
PRODID:-//ChamberMaster//Event Calendar 2.0//EN
METHOD:PUBLISH
X-PUBLISHED-TTL:P3D
REFRESH-INTERVAL:P3D
CALSCALE:GREGORIAN
BEGIN:VEVENT
DTSTART;VALUE=DATE:20211013
DTEND;VALUE=DATE:20211014
TRANSP:TRANSPARENT
X-MICROSOFT-CDO-ALLDAYEVENT:TRUE
SUMMARY:Light Up MBC Live
DESCRIPTION:On Wednesday night\, Pier Plaza will be lit in pink\, green and teal as part of Hermosa Beach's participation in #LightUpMBC.\n\n#LightUpMBC is an annual global landmark campaign\, that shines a light on the importance of awareness and funding for metastatic breast cancer.\n\nWhat the colors mean:\n\n  Green represents renewal\, hope\, and immortality\n\n  Teal symbolizes healing and spirituality\n\n  Pink signifies the metastatic cancer originated in the breast\n\nIf you're in the vicinity\, please stop by\, take pictures and tag them #LightUpMBC and #metavivor on social media.\n\nMETAvivor Research and Support Inc.
X-ALT-DESC;FMTTYPE=text/html:<span style="color: rgb(38\, 38\, 38)\; font-family: -apple-system\, system-ui\, &quot\;Segoe UI&quot\;\, Roboto\, Helvetica\, Arial\, sans-serif\; font-size: 14px\;">On Wednesday night\, Pier Plaza will be lit in pink\, green and teal as part of Hermosa Beach&#39\;s participation in&nbsp\;</span><a class="xil3i" href="https://www.instagram.com/explore/tags/lightupmbc/" style="margin: 0px\; padding: 0px\; border: 0px\; font-variant-numeric: inherit\; font-variant-east-asian: inherit\; font-stretch: inherit\; font-size: 14px\; line-height: inherit\; font-family: -apple-system\, system-ui\, &quot\;Segoe UI&quot\;\, Roboto\, Helvetica\, Arial\, sans-serif\; vertical-align: baseline\; color: rgba(var(--fe0\,0\,55\,107)\,1)\; text-decoration-line: none\; overflow-wrap: break-word\;" tabindex="0">#LightUpMBC</a><span style="color: rgb(38\, 38\, 38)\; font-family: -apple-system\, system-ui\, &quot\;Segoe UI&quot\;\, Roboto\, Helvetica\, Arial\, sans-serif\; font-size: 14px\;">.</span><br style="color: rgb(38\, 38\, 38)\; font-family: -apple-system\, system-ui\, &quot\;Segoe UI&quot\;\, Roboto\, Helvetica\, Arial\, sans-serif\; font-size: 14px\;" />\n<a class="xil3i" href="https://www.instagram.com/explore/tags/lightupmbc/" style="margin: 0px\; padding: 0px\; border: 0px\; font-variant-numeric: inherit\; font-variant-east-asian: inherit\; font-stretch: inherit\; font-size: 14px\; line-height: inherit\; font-family: -apple-system\, system-ui\, &quot\;Segoe UI&quot\;\, Roboto\, Helvetica\, Arial\, sans-serif\; vertical-align: baseline\; color: rgba(var(--fe0\,0\,55\,107)\,1)\; text-decoration-line: none\; overflow-wrap: break-word\;" tabindex="0">#LightUpMBC</a><span style="color: rgb(38\, 38\, 38)\; font-family: -apple-system\, system-ui\, &quot\;Segoe UI&quot\;\, Roboto\, Helvetica\, Arial\, sans-serif\; font-size: 14px\;">&nbsp\;is an annual global landmark campaign\, that shines a light on the importance of awareness and funding for metastatic breast cancer.</span><br style="color: rgb(38\, 38\, 38)\; font-family: -apple-system\, system-ui\, &quot\;Segoe UI&quot\;\, Roboto\, Helvetica\, Arial\, sans-serif\; font-size: 14px\;" />\n<span style="color: rgb(38\, 38\, 38)\; font-family: -apple-system\, system-ui\, &quot\;Segoe UI&quot\;\, Roboto\, Helvetica\, Arial\, sans-serif\; font-size: 14px\;">What the colors mean:</span><br style="color: rgb(38\, 38\, 38)\; font-family: -apple-system\, system-ui\, &quot\;Segoe UI&quot\;\, Roboto\, Helvetica\, Arial\, sans-serif\; font-size: 14px\;" />\n<span style="color: rgb(38\, 38\, 38)\; font-family: -apple-system\, system-ui\, &quot\;Segoe UI&quot\;\, Roboto\, Helvetica\, Arial\, sans-serif\; font-size: 14px\;">&gt\; Green represents renewal\, hope\, and immortality</span><br style="color: rgb(38\, 38\, 38)\; font-family: -apple-system\, system-ui\, &quot\;Segoe UI&quot\;\, Roboto\, Helvetica\, Arial\, sans-serif\; font-size: 14px\;" />\n<span style="color: rgb(38\, 38\, 38)\; font-family: -apple-system\, system-ui\, &quot\;Segoe UI&quot\;\, Roboto\, Helvetica\, Arial\, sans-serif\; font-size: 14px\;">&gt\; Teal symbolizes healing and spirituality</span><br style="color: rgb(38\, 38\, 38)\; font-family: -apple-system\, system-ui\, &quot\;Segoe UI&quot\;\, Roboto\, Helvetica\, Arial\, sans-serif\; font-size: 14px\;" />\n<span style="color: rgb(38\, 38\, 38)\; font-family: -apple-system\, system-ui\, &quot\;Segoe UI&quot\;\, Roboto\, Helvetica\, Arial\, sans-serif\; font-size: 14px\;">&gt\; Pink signifies the metastatic cancer originated in the breast</span><br style="color: rgb(38\, 38\, 38)\; font-family: -apple-system\, system-ui\, &quot\;Segoe UI&quot\;\, Roboto\, Helvetica\, Arial\, sans-serif\; font-size: 14px\;" />\n<span style="color: rgb(38\, 38\, 38)\; font-family: -apple-system\, system-ui\, &quot\;Segoe UI&quot\;\, Roboto\, Helvetica\, Arial\, sans-serif\; font-size: 14px\;">If you&#39\;re in the vicinity\, please stop by\, take pictures and tag them&nbsp\;</span><a class="xil3i" href="https://www.instagram.com/explore/tags/lightupmbc/" style="margin: 0px\; padding: 0px\; border: 0px\; font-variant-numeric: inherit\; font-variant-east-asian: inherit\; font-stretch: inherit\; font-size: 14px\; line-height: inherit\; font-family: -apple-system\, system-ui\, &quot\;Segoe UI&quot\;\, Roboto\, Helvetica\, Arial\, sans-serif\; vertical-align: baseline\; color: rgba(var(--fe0\,0\,55\,107)\,1)\; text-decoration-line: none\; overflow-wrap: break-word\;" tabindex="0">#LightUpMBC</a><span style="color: rgb(38\, 38\, 38)\; font-family: -apple-system\, system-ui\, &quot\;Segoe UI&quot\;\, Roboto\, Helvetica\, Arial\, sans-serif\; font-size: 14px\;">&nbsp\;and&nbsp\;</span><a class="xil3i" href="https://www.instagram.com/explore/tags/metavivor/" style="margin: 0px\; padding: 0px\; border: 0px\; font-variant-numeric: inherit\; font-variant-east-asian: inherit\; font-stretch: inherit\; font-size: 14px\; line-height: inherit\; font-family: -apple-system\, system-ui\, &quot\;Segoe UI&quot\;\, Roboto\, Helvetica\, Arial\, sans-serif\; vertical-align: baseline\; color: rgba(var(--fe0\,0\,55\,107)\,1)\; text-decoration-line: none\; overflow-wrap: break-word\;" tabindex="0">#metavivor</a><span style="color: rgb(38\, 38\, 38)\; font-family: -apple-system\, system-ui\, &quot\;Segoe UI&quot\;\, Roboto\, Helvetica\, Arial\, sans-serif\; font-size: 14px\;">&nbsp\;on social media.</span><br style="color: rgb(38\, 38\, 38)\; font-family: -apple-system\, system-ui\, &quot\;Segoe UI&quot\;\, Roboto\, Helvetica\, Arial\, sans-serif\; font-size: 14px\;" />\n<span style="color: rgb(38\, 38\, 38)\; font-family: -apple-system\, system-ui\, &quot\;Segoe UI&quot\;\, Roboto\, Helvetica\, Arial\, sans-serif\; font-size: 14px\;">METAvivor Research and Support Inc.</span>
LOCATION:Pier Plaza Hermosa Beach\, 90254
UID:e.2438.4692
SEQUENCE:3
DTSTAMP:20260421T221742Z
URL:https://business.hbchamber.net/events/details/light-up-mbc-live-4692
END:VEVENT

END:VCALENDAR
