BEGIN:VCALENDAR
VERSION:2.0
PRODID:-//ChamberMaster//Event Calendar 2.0//EN
METHOD:PUBLISH
X-PUBLISHED-TTL:P3D
REFRESH-INTERVAL:P3D
CALSCALE:GREGORIAN
BEGIN:VEVENT
DTSTART:20220306T023000Z
DTEND:20220306T043000Z
X-MICROSOFT-CDO-ALLDAYEVENT:FALSE
SUMMARY:Leukemia Lymphoma Society Reception & Art Auction
DESCRIPTION:Saturday\, March 5\n\n6:30-8:30pm\n\nJoin us for a fundraiser and art auction benefiting the Leukemia and Lymphoma Society. This event is being put on by two Palos Verdes High School Students - Kylie Mone and Alaina Wong. This is an incredible cause to support\, and it's our pleasure to host it.\n\nScan the QR Code or go to the link below to Enter the Contest\,\n\nRegister to Attend the Event\, or Support the Cause.\n\nPlease submit your artwork by February 28!\n\ndonateteamtriumph.com/SouthBay
X-ALT-DESC;FMTTYPE=text/html:<span style="color: rgb(38\, 38\, 38)\; font-family: -apple-system\, &quot\;system-ui&quot\;\, &quot\;Segoe UI&quot\;\, Roboto\, Helvetica\, Arial\, sans-serif\; font-size: 14px\;">Saturday\, March 5</span><br style="color: rgb(38\, 38\, 38)\; font-family: -apple-system\, &quot\;system-ui&quot\;\, &quot\;Segoe UI&quot\;\, Roboto\, Helvetica\, Arial\, sans-serif\; font-size: 14px\;" />\n<span style="color: rgb(38\, 38\, 38)\; font-family: -apple-system\, &quot\;system-ui&quot\;\, &quot\;Segoe UI&quot\;\, Roboto\, Helvetica\, Arial\, sans-serif\; font-size: 14px\;">6:30-8:30pm</span><br style="color: rgb(38\, 38\, 38)\; font-family: -apple-system\, &quot\;system-ui&quot\;\, &quot\;Segoe UI&quot\;\, Roboto\, Helvetica\, Arial\, sans-serif\; font-size: 14px\;" />\n<span style="color: rgb(38\, 38\, 38)\; font-family: -apple-system\, &quot\;system-ui&quot\;\, &quot\;Segoe UI&quot\;\, Roboto\, Helvetica\, Arial\, sans-serif\; font-size: 14px\;">Join us for a fundraiser and art auction benefiting the Leukemia and Lymphoma Society. This event is being put on by two Palos Verdes High School Students - Kylie Mone and Alaina Wong. This is an incredible cause to support\, and it&rsquo\;s our pleasure to host it.</span><br style="color: rgb(38\, 38\, 38)\; font-family: -apple-system\, &quot\;system-ui&quot\;\, &quot\;Segoe UI&quot\;\, Roboto\, Helvetica\, Arial\, sans-serif\; font-size: 14px\;" />\n<span style="color: rgb(38\, 38\, 38)\; font-family: -apple-system\, &quot\;system-ui&quot\;\, &quot\;Segoe UI&quot\;\, Roboto\, Helvetica\, Arial\, sans-serif\; font-size: 14px\;">Scan the QR Code or go to the link below to Enter the Contest\,</span><br style="color: rgb(38\, 38\, 38)\; font-family: -apple-system\, &quot\;system-ui&quot\;\, &quot\;Segoe UI&quot\;\, Roboto\, Helvetica\, Arial\, sans-serif\; font-size: 14px\;" />\n<span style="color: rgb(38\, 38\, 38)\; font-family: -apple-system\, &quot\;system-ui&quot\;\, &quot\;Segoe UI&quot\;\, Roboto\, Helvetica\, Arial\, sans-serif\; font-size: 14px\;">Register to Attend the Event\, or Support the Cause.</span><br style="color: rgb(38\, 38\, 38)\; font-family: -apple-system\, &quot\;system-ui&quot\;\, &quot\;Segoe UI&quot\;\, Roboto\, Helvetica\, Arial\, sans-serif\; font-size: 14px\;" />\n<span style="color: rgb(38\, 38\, 38)\; font-family: -apple-system\, &quot\;system-ui&quot\;\, &quot\;Segoe UI&quot\;\, Roboto\, Helvetica\, Arial\, sans-serif\; font-size: 14px\;">Please submit your artwork by February 28!</span><br style="color: rgb(38\, 38\, 38)\; font-family: -apple-system\, &quot\;system-ui&quot\;\, &quot\;Segoe UI&quot\;\, Roboto\, Helvetica\, Arial\, sans-serif\; font-size: 14px\;" />\n<span style="color: rgb(38\, 38\, 38)\; font-family: -apple-system\, &quot\;system-ui&quot\;\, &quot\;Segoe UI&quot\;\, Roboto\, Helvetica\, Arial\, sans-serif\; font-size: 14px\;">donateteamtriumph.com/SouthBay</span>
LOCATION:Indivisible Arts Gallery/South Bay Artist Collective 618 Cypress St. Hermosa Beach\, CA 90254
UID:e.2438.5279
SEQUENCE:3
DTSTAMP:20260421T105700Z
URL:https://business.hbchamber.net/events/details/leukemia-lymphoma-society-reception-art-auction-5279
END:VEVENT

END:VCALENDAR
