BEGIN:VCALENDAR
VERSION:2.0
PRODID:-//ChamberMaster//Event Calendar 2.0//EN
METHOD:PUBLISH
X-PUBLISHED-TTL:P3D
REFRESH-INTERVAL:P3D
CALSCALE:GREGORIAN
BEGIN:VEVENT
DTSTART:20220428T000000Z
DTEND:20220428T030000Z
X-MICROSOFT-CDO-ALLDAYEVENT:FALSE
SUMMARY:Leitmotif Wine Tasting
DESCRIPTION:Join us along with winemaker Stephen Searle. We'll be pouring his Leitmotif Wines sourced from some of the best vineyards in the region. Leitmotif is Stephen's label (he's head winemaker at Jaffurs)\, where he strives to make great wines through diligence in the vineyard\, harvesting at optimal balance of ripeness and minimal handling in the cellar. Stephen's goal is to produce wines of both power and clarity\, allowing the complexities of each vineyard and vintage to shine over the hand of the winemaker. We'll be pouring: 2017/2018 Cuvee Amiliana Grenache Blanc/Viognier 2017/2018 Santa Barbara Pinot Noir 2018 Duvarita Vineyard Pinot Noir 2017/2018 Syrah Slide Hill Vineyard Edna Valley
X-ALT-DESC;FMTTYPE=text/html:Join us along with winemaker Stephen Searle. We&#39\;ll be pouring his Leitmotif Wines sourced from some of the best vineyards in the region. Leitmotif is Stephen&#39\;s label (he&#39\;s head winemaker at Jaffurs)\, where he strives to make great wines through diligence in the vineyard\, harvesting at optimal balance of ripeness and minimal handling in the cellar. Stephen&#39\;s goal is to produce wines of both power and clarity\, allowing the complexities of each vineyard and vintage to shine over the hand of the winemaker. We&#39\;ll be pouring: 2017/2018 Cuvee Amiliana Grenache Blanc/Viognier 2017/2018 Santa Barbara Pinot Noir 2018 Duvarita Vineyard Pinot Noir 2017/2018 Syrah Slide Hill Vineyard Edna Valley&nbsp\;
LOCATION:Uncorked. 302 Pier Ave
UID:e.2438.5514
SEQUENCE:3
DTSTAMP:20260421T091251Z
URL:https://business.hbchamber.net/events/details/leitmotif-wine-tasting-5514
END:VEVENT

END:VCALENDAR
