BEGIN:VCALENDAR
VERSION:2.0
PRODID:-//ChamberMaster//Event Calendar 2.0//EN
METHOD:PUBLISH
X-PUBLISHED-TTL:P3D
REFRESH-INTERVAL:P3D
CALSCALE:GREGORIAN
BEGIN:VEVENT
DTSTART:20250622T190000Z
DTEND:20250622T210000Z
X-MICROSOFT-CDO-ALLDAYEVENT:FALSE
SUMMARY:Leadership Hermosa Beach: Little Libraries Launch Party
DESCRIPTION:On behalf of the Leadership Hermosa Beach Class of 2025\, we are thrilled to invite you to our upcoming celebration event\, where we will showcase the community impact of our class project: the Little Libraries Project.\n\n\n\nOur initial goal was to place 8 Little Free Libraries throughout Hermosa Beach\, and  not only did we meet this goal\, but we exceeded it by placing 12 libraries across the city.\n\n\n\nThroughout the journey\, we built meaningful partnerships\, including a collaboration with the local nonprofit Indivisible Arts for creative contributions\, and successfully registered all libraries with the Little Free Library Network\, connecting Hermosa Beach to a global movement that champions literacy\, sharing\, and community.
X-ALT-DESC;FMTTYPE=text/html:On behalf of the <strong>Leadership Hermosa Beach Class of 2025</strong>\, we are thrilled to invite you to our upcoming celebration event\, where we will showcase the community impact of our class project: the <strong>Little Libraries Project</strong>.<br />\n<br />\nOur initial goal was to place <strong>8 Little Free Libraries</strong> throughout Hermosa Beach\, and&nbsp\; not only did we meet this goal\, but we exceeded it by placing <strong>12 libraries</strong> across the city.<br />\n<br />\nThroughout the journey\, we built meaningful partnerships\, including a collaboration with the local nonprofit <strong>Indivisible Arts</strong> for creative contributions\, and successfully registered all libraries with the <strong>Little Free Library Network</strong>\, connecting Hermosa Beach to a global movement that champions literacy\, sharing\, and community.
LOCATION:Resin 618 Cypress Ave Hermosa Beach\, CA
UID:e.2438.12425
SEQUENCE:3
DTSTAMP:20260423T004250Z
URL:https://business.hbchamber.net/events/details/leadership-hermosa-beach-little-libraries-launch-party-12425
END:VEVENT

END:VCALENDAR
