BEGIN:VCALENDAR
VERSION:2.0
PRODID:-//ChamberMaster//Event Calendar 2.0//EN
METHOD:PUBLISH
X-PUBLISHED-TTL:P3D
REFRESH-INTERVAL:P3D
CALSCALE:GREGORIAN
BEGIN:VEVENT
DTSTART:20250620T003000Z
DTEND:20250620T030000Z
X-MICROSOFT-CDO-ALLDAYEVENT:FALSE
SUMMARY:Leadership Hermosa Beach Happy Hour/Info Session
DESCRIPTION:Come meet our members and find out more about Leadership Hermosa Beach!\n\nAll are welcome! Stop by anytime from 5:30-8pm.\n\nLearn more about LHB here: https://leadershiphermosa.org/
X-ALT-DESC;FMTTYPE=text/html:Come meet our members and find out more about Leadership Hermosa Beach!<br />\nAll are welcome! Stop by anytime from 5:30-8pm.<br />\nLearn more about LHB here: <a href="https://leadershiphermosa.org/">https://leadershiphermosa.org/</a>
LOCATION:Patrick Molloy's 50 Pier Ave Hermosa Beach\, CA
UID:e.2438.12381
SEQUENCE:3
DTSTAMP:20260423T004219Z
URL:https://business.hbchamber.net/events/details/leadership-hermosa-beach-happy-hour-info-session-12381
END:VEVENT

END:VCALENDAR
