BEGIN:VCALENDAR
VERSION:2.0
PRODID:-//ChamberMaster//Event Calendar 2.0//EN
METHOD:PUBLISH
X-PUBLISHED-TTL:P3D
REFRESH-INTERVAL:P3D
CALSCALE:GREGORIAN
BEGIN:VEVENT
DTSTART;VALUE=DATE:20250613
DTEND;VALUE=DATE:20250614
TRANSP:TRANSPARENT
X-MICROSOFT-CDO-ALLDAYEVENT:TRUE
SUMMARY:LAST DAY OF SCHOOL -- Hermosa View\, Vista\, and Valley Schools
DESCRIPTION:LAST DAY OF SCHOOL -- Hermosa View School\, Hermosa Vista School\, and Hermosa Valley School
X-ALT-DESC;FMTTYPE=text/html:LAST DAY OF SCHOOL -- Hermosa View School\, Hermosa Vista School\,&nbsp\;and Hermosa Valley School
LOCATION:Hermosa View School 1800 Prospect Ave\, Hermosa Beach\, CA 90254 Hermosa Vista School 417 25th St\, Hermosa Beach\, CA 90254 Hermosa Valley School 1645 Valley Dr\, Hermosa Beach\, CA 90254
UID:e.2438.9664
SEQUENCE:3
DTSTAMP:20260423T093012Z
URL:https://business.hbchamber.net/events/details/last-day-of-school-hermosa-view-vista-and-valley-schools-9664
END:VEVENT

END:VCALENDAR
