BEGIN:VCALENDAR
VERSION:2.0
PRODID:-//ChamberMaster//Event Calendar 2.0//EN
METHOD:PUBLISH
X-PUBLISHED-TTL:P3D
REFRESH-INTERVAL:P3D
CALSCALE:GREGORIAN
BEGIN:VEVENT
DTSTART:20220323T010000Z
DTEND:20220323T060000Z
X-MICROSOFT-CDO-ALLDAYEVENT:FALSE
SUMMARY:Karaoke Night @ The Brews Hall
DESCRIPTION:SING YOUR HEART OUT! $9 El Matador y Diablo Margarita\, Gold Rush\, and Queen Bee Cocktails. Anyone who sings receives a $5 bartender's choice shooter.
X-ALT-DESC;FMTTYPE=text/html:SING YOUR HEART OUT! $9 El Matador y Diablo Margarita\, Gold Rush\, and Queen Bee Cocktails. Anyone who sings receives a $5 bartender's choice shooter.&nbsp\;
LOCATION:The Brews Hall 73 Pier Ave. Hermosa Beach\, 90254
UID:e.2438.5458
SEQUENCE:3
DTSTAMP:20260421T105742Z
URL:https://business.hbchamber.net/events/details/karaoke-night-the-brews-hall-03-22-2022-5458
END:VEVENT

END:VCALENDAR
