BEGIN:VCALENDAR
VERSION:2.0
PRODID:-//ChamberMaster//Event Calendar 2.0//EN
METHOD:PUBLISH
X-PUBLISHED-TTL:P3D
REFRESH-INTERVAL:P3D
CALSCALE:GREGORIAN
BEGIN:VEVENT
DTSTART:20250709T000000Z
DTEND:20250709T020000Z
X-MICROSOFT-CDO-ALLDAYEVENT:FALSE
SUMMARY:July Wine Club Appreciation and Pick-up Party at Uncorked
DESCRIPTION:If you're a member\, stop by our Wine Club Appreciation and Pick-Up Party on July 8th from 5 to 7 pm at our Hermosa location. It's going to be a festive evening filled with complimentary wine\, cheese\, and charcuterie. Enjoy a glass of wine\, delicious cheese and charcuterie\, meet fellow wine club members\, and toast the warm days of summer!
X-ALT-DESC;FMTTYPE=text/html:If you&#39\;re a member\, stop by our Wine Club Appreciation and Pick-Up Party on July 8th from 5 to 7 pm at our Hermosa location. It&#39\;s going to be a festive evening filled with complimentary wine\, cheese\, and charcuterie. Enjoy a glass of wine\, delicious cheese and charcuterie\, meet fellow wine club members\, and toast the warm days of summer!&nbsp\;&nbsp\;
LOCATION:Uncorked Hermosa 302 Pier Ave Hermosa Beach\, CA
UID:e.2438.12498
SEQUENCE:3
DTSTAMP:20260423T041425Z
URL:https://business.hbchamber.net/events/details/july-wine-club-appreciation-and-pick-up-party-at-uncorked-12498
END:VEVENT

END:VCALENDAR
