BEGIN:VCALENDAR
VERSION:2.0
PRODID:-//ChamberMaster//Event Calendar 2.0//EN
METHOD:PUBLISH
X-PUBLISHED-TTL:P3D
REFRESH-INTERVAL:P3D
CALSCALE:GREGORIAN
BEGIN:VEVENT
DTSTART:20250117T220000Z
DTEND:20250120T233000Z
X-MICROSOFT-CDO-ALLDAYEVENT:FALSE
SUMMARY:Joshua Tree Retreat
DESCRIPTION:The Three Principal Aspects of the Path\n\nThis retreat will guide you through the profound teachings of Je Tsongkhapa's "The Three Principal Aspects of the Path"   a text that has illuminated the hearts of meditators for centuries. \n\nOur retreat offers a deep look into renunciation\, bodhichitta\, and the correct view of emptiness and how to weave them into the fabric of our daily lives.\n\nAllowing the wisdom of Je Tsongkhapa's words to resonate within us\, we will find the space to disconnect from the chaos of the external world and understand the true nature of who we are and who we can become.
X-ALT-DESC;FMTTYPE=text/html:<h4><strong>The Three Principal Aspects of the Path</strong></h4>\n\n<p>This retreat will guide you through the profound teachings of Je Tsongkhapa&rsquo\;s &ldquo\;The Three Principal Aspects of the Path&rdquo\; &ndash\; a text that has illuminated the hearts of meditators for centuries.&nbsp\;</p>\n\n<p>Our retreat offers a deep look into renunciation\, bodhichitta\, and the correct view of emptiness and how to weave them into the fabric of our daily lives.</p>\n\n<p>Allowing the wisdom of Je Tsongkhapa&rsquo\;s words to resonate within us\, we will find the space to disconnect from the chaos of the external world and understand the true nature of who we are and who we can become.&nbsp\;</p>\n
LOCATION:Joshua Tree Retreat Center 59700 Twenty Nine Palms Hwy Joshua Tree\, CA 92252
UID:e.2438.11053
SEQUENCE:3
DTSTAMP:20260420T183442Z
URL:https://business.hbchamber.net/events/details/joshua-tree-retreat-01-17-2025-11053
END:VEVENT

END:VCALENDAR
