BEGIN:VCALENDAR
VERSION:2.0
PRODID:-//ChamberMaster//Event Calendar 2.0//EN
METHOD:PUBLISH
X-PUBLISHED-TTL:P3D
REFRESH-INTERVAL:P3D
CALSCALE:GREGORIAN
BEGIN:VEVENT
DTSTART:20250513T133000Z
DTEND:20250514T020000Z
X-MICROSOFT-CDO-ALLDAYEVENT:FALSE
SUMMARY:Joker's Hand Live Performance
DESCRIPTION:Joker's Hand performs live at Project Barley Redondo Beach\, 136 International Boardwalk\, Redondo Beach\, CA.
X-ALT-DESC;FMTTYPE=text/html:Joker&#39\;s Hand performs live at Project Barley Redondo Beach\, 136 International Boardwalk\, Redondo Beach\, CA.
LOCATION:Project Barley 136 International Boardwalk Redondo Beach\, CA
UID:e.2438.12239
SEQUENCE:3
DTSTAMP:20260422T224529Z
URL:https://business.hbchamber.net/events/details/joker-s-hand-live-performance-12239
END:VEVENT

END:VCALENDAR
