BEGIN:VCALENDAR
VERSION:2.0
PRODID:-//ChamberMaster//Event Calendar 2.0//EN
METHOD:PUBLISH
X-PUBLISHED-TTL:P3D
REFRESH-INTERVAL:P3D
CALSCALE:GREGORIAN
BEGIN:VEVENT
DTSTART:20250601T030000Z
DTEND:20250601T034500Z
X-MICROSOFT-CDO-ALLDAYEVENT:FALSE
SUMMARY:Joker's Hand Live Performance
DESCRIPTION:Joker's Hand\, an alternative rock band from Torrance will perform as a full band at Project Barley in Lomita.
X-ALT-DESC;FMTTYPE=text/html:Joker's Hand\, an alternative rock band from Torrance will perform as a full band at Project Barley in Lomita.&nbsp\;&nbsp\;
LOCATION:Project Barley 2308 Pacific Coast Highway Lomita\, CA 90717
UID:e.2438.12246
SEQUENCE:3
DTSTAMP:20260422T230714Z
URL:https://business.hbchamber.net/events/details/joker-s-hand-live-performance-05-31-2025-12246
END:VEVENT

END:VCALENDAR
