BEGIN:VCALENDAR
VERSION:2.0
PRODID:-//ChamberMaster//Event Calendar 2.0//EN
METHOD:PUBLISH
X-PUBLISHED-TTL:P3D
REFRESH-INTERVAL:P3D
CALSCALE:GREGORIAN
BEGIN:VEVENT
DTSTART:20250525T000000Z
DTEND:20250525T004500Z
X-MICROSOFT-CDO-ALLDAYEVENT:FALSE
SUMMARY:Joker's Hand Live Performance
DESCRIPTION:Joker's Hand Performs at Fiesta Hermosa on the Carnival Stage
X-ALT-DESC;FMTTYPE=text/html:Joker&#39\;s Hand Performs at Fiesta Hermosa on the Carnival Stage
LOCATION:Carnival Stage\, Fiesta Hermosa
UID:e.2438.12240
SEQUENCE:3
DTSTAMP:20260422T224752Z
URL:https://business.hbchamber.net/events/details/joker-s-hand-live-performance-05-24-2025-12240
END:VEVENT

END:VCALENDAR
