BEGIN:VCALENDAR
VERSION:2.0
PRODID:-//ChamberMaster//Event Calendar 2.0//EN
METHOD:PUBLISH
X-PUBLISHED-TTL:P3D
REFRESH-INTERVAL:P3D
CALSCALE:GREGORIAN
BEGIN:VEVENT
DTSTART:20220324T000000Z
DTEND:20220324T020000Z
X-MICROSOFT-CDO-ALLDAYEVENT:FALSE
SUMMARY:Jigar (Sonoma) Wine Tasting
DESCRIPTION:Jigar is a family-owned winery based in Sonoma. Their relationships with local family-owned vineyards enables them to source some of the best fruit in the valley\, and as we all know\, great fruit makes awesome wines. Kirk Kennedy from Jigar will be on hand to pour some of their wines and tell you more about them. Click on our website link to find out more about this event\, tech sheets for the wines we'll be featuring\, and other Winery Tasting Events
X-ALT-DESC;FMTTYPE=text/html:Jigar is a family-owned winery based in Sonoma. Their relationships with local family-owned vineyards enables them to source some of the best fruit in the valley\, and as we all know\, great fruit makes awesome wines. Kirk Kennedy from Jigar will be on hand to pour some of their wines and tell you more about them. Click on our website link to find out more about this event\, tech sheets for the wines we&#39\;ll be featuring\, and other Winery Tasting Events
LOCATION:Uncorked Hermosa Beach. 320 Pier Ave
UID:e.2438.5347
SEQUENCE:3
DTSTAMP:20260421T105220Z
URL:https://business.hbchamber.net/events/details/jigar-sonoma-wine-tasting-5347
END:VEVENT

END:VCALENDAR
