BEGIN:VCALENDAR
VERSION:2.0
PRODID:-//ChamberMaster//Event Calendar 2.0//EN
METHOD:PUBLISH
X-PUBLISHED-TTL:P3D
REFRESH-INTERVAL:P3D
CALSCALE:GREGORIAN
BEGIN:VEVENT
DTSTART:20220206T220000Z
DTEND:20220207T010000Z
X-MICROSOFT-CDO-ALLDAYEVENT:FALSE
SUMMARY:Jack Tracy @ Project Barley Taps& Grill
DESCRIPTION:Musician Jack Tracy of Jacks Ukulele\, performs at the new venue for Project Barley Taps & Grill in Redondo Beach
X-ALT-DESC;FMTTYPE=text/html:Musician Jack Tracy of Jacks Ukulele\, performs at the new venue for Project Barley Taps &amp\; Grill in Redondo Beach
LOCATION:135 International Boardwalk Redondo Beach 90277
UID:e.2438.5160
SEQUENCE:3
DTSTAMP:20260421T132029Z
URL:https://business.hbchamber.net/events/details/jack-tracy-project-barley-taps-grill-5160
END:VEVENT

END:VCALENDAR
