BEGIN:VCALENDAR
VERSION:2.0
PRODID:-//ChamberMaster//Event Calendar 2.0//EN
METHOD:PUBLISH
X-PUBLISHED-TTL:P3D
REFRESH-INTERVAL:P3D
CALSCALE:GREGORIAN
BEGIN:VEVENT
DTSTART:20220423T000000Z
DTEND:20220423T030000Z
X-MICROSOFT-CDO-ALLDAYEVENT:FALSE
SUMMARY:Italian Wine Tasting
DESCRIPTION:If you're visiting Italy this summer or simply interested in learning more about Italian wines\, join us this Friday for a flight curated by Oliver McCrum Wines & Spirits. McCrum focuses exclusively on importing Italian wines and searches out those with clarity\, focus\, and precision\, made from indigenous Italian grape varieties using traditional winemaking techniques. Adam Davidow from OMW&S will be on hand to guide us through a flight of tasty Italian wines selected to spotlight various regions in the country that boasts one of the longest winemaking traditions in the world. Wines we'll be pouring: Ciro Bondi Outis Etna Bianco 2018 Grifalco Gricos Aglianico del Vulture 2019 Brezza Langhe Nebbiolo 2020 Dogliotti La Caudrina Moscato
X-ALT-DESC;FMTTYPE=text/html:If you&#39\;re visiting Italy this summer or simply interested in learning more about Italian wines\, join us this Friday for a flight curated by Oliver McCrum Wines &amp\; Spirits. McCrum focuses exclusively on importing Italian wines and searches out those with clarity\, focus\, and precision\, made from indigenous Italian grape varieties using traditional winemaking techniques. Adam Davidow from OMW&amp\;S will be on hand to guide us through a flight of tasty Italian wines selected to spotlight various regions in the country that boasts one of the longest winemaking traditions in the world. Wines we&#39\;ll be pouring: Ciro Bondi Outis Etna Bianco 2018 Grifalco Gricos Aglianico del Vulture 2019 Brezza Langhe Nebbiolo 2020 Dogliotti La Caudrina Moscato
LOCATION:Uncorked. 302 Pier Ave
UID:e.2438.5513
SEQUENCE:3
DTSTAMP:20260421T091251Z
URL:https://business.hbchamber.net/events/details/italian-wine-tasting-5513
END:VEVENT

END:VCALENDAR
