BEGIN:VCALENDAR
VERSION:2.0
PRODID:-//ChamberMaster//Event Calendar 2.0//EN
METHOD:PUBLISH
X-PUBLISHED-TTL:P3D
REFRESH-INTERVAL:P3D
CALSCALE:GREGORIAN
BEGIN:VEVENT
DTSTART:20250420T160000Z
DTEND:20250420T220000Z
X-MICROSOFT-CDO-ALLDAYEVENT:FALSE
SUMMARY:Interscholastic Beach Volleyball Tournament Series
DESCRIPTION:California School Sport Association/Interscholastic Beach Volleyball will host youth volleyball tournaments on the north side of the Pier.\n\n\n\nFor more information\, visit www.ibvl.org.
X-ALT-DESC;FMTTYPE=text/html:California School Sport Association/Interscholastic Beach Volleyball will host youth volleyball tournaments on the north side of the Pier.<br />\n<br />\nFor more information\, visit <a href="http://www.ibvl.org">www.ibvl.org</a>.
LOCATION:Volleyball Courts 1 Pier Avenue Hermosa Beach\, California 90254
UID:e.2438.11555
SEQUENCE:3
DTSTAMP:20260422T210513Z
URL:https://business.hbchamber.net/events/details/interscholastic-beach-volleyball-tournament-series-11555
END:VEVENT

END:VCALENDAR
