BEGIN:VCALENDAR
VERSION:2.0
PRODID:-//ChamberMaster//Event Calendar 2.0//EN
METHOD:PUBLISH
X-PUBLISHED-TTL:P3D
REFRESH-INTERVAL:P3D
CALSCALE:GREGORIAN
BEGIN:VEVENT
DTSTART:20240301T013000Z
DTEND:20240301T050000Z
X-MICROSOFT-CDO-ALLDAYEVENT:FALSE
SUMMARY:Insomniac Night: Poetry Open Mic
DESCRIPTION:Interested in the music\, poetry\, art\, and history of the Beatnik Movement? The Hermosa Beach Museum is hosting a night in honor of the historic Insomniac Cafe this month! Drawing on the Insomniac's history as a cultural touchstone\, the evening will feature open mic poetry\, music\, and storytelling along with coffee from Gitana Cafe and light refreshments. This event will take place at the Hermosa Beach Museum (710 Pier Avenue\, Hermosa Beach\, CA 90254) on February 29 with doors opening at 5:30pm and poetry readings beginning at 6:00pm.\n\n \n\n \n\nPlease RSVP for the event below for free general admission. To sign up for a four minute time slot to read a poem\, perform music\, or share a relevant story at the event\, please email Museum Staff at hermosabeachmuseum@gmail.com.
X-ALT-DESC;FMTTYPE=text/html:<p style="margin: 0px\; font-style: normal\; font-variant-caps: normal\; font-stretch: normal\; line-height: normal\; font-family: &quot\;Helvetica Neue&quot\;\; font-size-adjust: none\; font-kerning: auto\; font-variant-alternates: normal\; font-variant-ligatures: normal\; font-variant-numeric: normal\; font-variant-east-asian: normal\; font-variant-position: normal\; font-feature-settings: normal\; font-optical-sizing: auto\; font-variation-settings: normal\;"><span style="font-size:14px\;"><span style="font-family:arial\;">Interested in the music\, poetry\, art\, and history of the Beatnik Movement? The Hermosa Beach Museum is hosting a night in honor of the historic Insomniac Cafe this month! Drawing on the Insomniac&rsquo\;s history as a cultural touchstone\, the evening will feature open mic poetry\, music\, and storytelling along with coffee from Gitana Cafe and light refreshments. This event will take place at the Hermosa Beach Museum (710 Pier Avenue\, Hermosa Beach\, CA 90254) on February 29 with doors opening at 5:30pm and poetry readings beginning at 6:00pm.</span></span></p>\n\n<p style="margin: 0px\; font-style: normal\; font-variant-caps: normal\; font-stretch: normal\; line-height: normal\; font-family: &quot\;Helvetica Neue&quot\;\; font-size-adjust: none\; font-kerning: auto\; font-variant-alternates: normal\; font-variant-ligatures: normal\; font-variant-numeric: normal\; font-variant-east-asian: normal\; font-variant-position: normal\; font-feature-settings: normal\; font-optical-sizing: auto\; font-variation-settings: normal\; min-height: 15px\;">&nbsp\;</p>\n\n<p style="margin: 0px\; font-style: normal\; font-variant-caps: normal\; font-stretch: normal\; line-height: normal\; font-family: &quot\;Helvetica Neue&quot\;\; font-size-adjust: none\; font-kerning: auto\; font-variant-alternates: normal\; font-variant-ligatures: normal\; font-variant-numeric: normal\; font-variant-east-asian: normal\; font-variant-position: normal\; font-feature-settings: normal\; font-optical-sizing: auto\; font-variation-settings: normal\; min-height: 15px\;">&nbsp\;</p>\n\n<p style="margin: 0px\; font-style: normal\; font-variant-caps: normal\; font-stretch: normal\; line-height: normal\; font-family: &quot\;Helvetica Neue&quot\;\; font-size-adjust: none\; font-kerning: auto\; font-variant-alternates: normal\; font-variant-ligatures: normal\; font-variant-numeric: normal\; font-variant-east-asian: normal\; font-variant-position: normal\; font-feature-settings: normal\; font-optical-sizing: auto\; font-variation-settings: normal\;"><span style="font-size:14px\;"><span style="font-family:arial\;">Please RSVP for the event below for free general admission. To sign up for a four minute time slot to read a poem\, perform music\, or share a relevant story at the event\, please email Museum Staff at <a href="mailto:hermosabeachmuseum@gmail.com"><span style="color: rgb(220\, 161\, 13)\;">hermosabeachmuseum@gmail.com</span></a>.</span></span></p>\n
LOCATION:Hermosa Beach Museum 710 Pier Avenue Hermosa Beach\, CA 90254
UID:e.2438.9343
SEQUENCE:3
DTSTAMP:20260419T131645Z
URL:https://business.hbchamber.net/events/details/insomniac-night-poetry-open-mic-9343
END:VEVENT

END:VCALENDAR
