BEGIN:VCALENDAR
VERSION:2.0
PRODID:-//ChamberMaster//Event Calendar 2.0//EN
METHOD:PUBLISH
X-PUBLISHED-TTL:P3D
REFRESH-INTERVAL:P3D
CALSCALE:GREGORIAN
BEGIN:VEVENT
DTSTART:20241209T220000Z
DTEND:20241209T230000Z
X-MICROSOFT-CDO-ALLDAYEVENT:FALSE
SUMMARY:In Person Social Hour with Beach Cities Health District Care Manager\, Charlotte Barnett?
DESCRIPTION:If you have a question regarding community resources\, want to learn more about Beach Cities Health District or share and learn ways to keep busy\, please join us! These meetings are for all\, a place to connect and feel heard.  \n\nwww.bchd.org/classes-workshops
X-ALT-DESC;FMTTYPE=text/html:If you have a question regarding community resources\, want to learn more about Beach Cities Health District or share and learn ways to keep busy\, please join us! These meetings are for all\, a place to connect and feel heard. &nbsp\;<br />\n<a href="http://www.bchd.org/classes-workshops">www.bchd.org/classes-workshops</a> &nbsp\;
LOCATION:Manhattan Beach Joslyn Center\, Sunset Room 1601 N. Valley Dr. Manhattan Beach\, CA 90266
UID:e.2438.11022
SEQUENCE:3
DTSTAMP:20260422T174701Z
URL:https://business.hbchamber.net/events/details/in-person-social-hour-with-beach-cities-health-district-care-manager-charlotte-barnett-11022
END:VEVENT

END:VCALENDAR
