BEGIN:VCALENDAR
VERSION:2.0
PRODID:-//ChamberMaster//Event Calendar 2.0//EN
METHOD:PUBLISH
X-PUBLISHED-TTL:P3D
REFRESH-INTERVAL:P3D
CALSCALE:GREGORIAN
BEGIN:VEVENT
DTSTART:20250512T210000Z
DTEND:20250512T220000Z
X-MICROSOFT-CDO-ALLDAYEVENT:FALSE
SUMMARY:In-Person Social Hour with BCHD Care Managers
DESCRIPTION:If you have a question regarding community resources or want to learn more about Beach Cities Health District\, please join us! If you want to share ways you are keeping busy or are looking for advice on ways to keep busy\, please join us! These meetings are for all\, a place to connect and feel heard.
X-ALT-DESC;FMTTYPE=text/html:If you have a question regarding community resources or want to learn more about Beach Cities Health District\, please join us! If you want to share ways you are keeping busy or are looking for advice on ways to keep busy\, please join us! These meetings are for all\, a place to connect and feel heard.&nbsp\;
LOCATION:Manhattan Beach Joslyn Center\, Sunset Room 1601 N. Valley Dr Manhattan Beach\, CA 90266
UID:e.2438.11532
SEQUENCE:3
DTSTAMP:20260422T225020Z
URL:https://business.hbchamber.net/events/details/in-person-social-hour-with-bchd-care-managers-11532
END:VEVENT

END:VCALENDAR
