BEGIN:VCALENDAR
VERSION:2.0
PRODID:-//ChamberMaster//Event Calendar 2.0//EN
METHOD:PUBLISH
X-PUBLISHED-TTL:P3D
REFRESH-INTERVAL:P3D
CALSCALE:GREGORIAN
BEGIN:VEVENT
DTSTART:20250529T013000Z
DTEND:20250529T033000Z
X-MICROSOFT-CDO-ALLDAYEVENT:FALSE
SUMMARY:Hybrid Board of Directors Meeting
DESCRIPTION:BCHD holds public board meetings on the fourth Wednesday of the month (except August and December). Residents are encouraged to attend board meetings in person or via Zoom.  You may also contact board members directly with questions or comments\, or call 310-374-3426\, ext. 8213. Please visit www.bchd.org/board-directors-meetings for more information.
X-ALT-DESC;FMTTYPE=text/html:BCHD holds public board meetings on the fourth Wednesday of the month (except August and December). Residents are encouraged to attend board meetings in person or via Zoom.&nbsp\; You may also contact board members directly with questions or comments\, or call 310-374-3426\, ext. 8213. Please visit <a href="http://www.bchd.org/board-directors-meetings for more information">www.bchd.org/board-directors-meetings for more information</a>.
LOCATION:Beach Cities Health District\, Lower Level - Beach Cities Room 514 N. Prospect Ave Redondo Beach\, CA or via Zoom
UID:e.2438.11550
SEQUENCE:3
DTSTAMP:20260422T225140Z
URL:https://business.hbchamber.net/events/details/hybrid-board-of-directors-meeting-11550
END:VEVENT

END:VCALENDAR
