BEGIN:VCALENDAR
VERSION:2.0
PRODID:-//ChamberMaster//Event Calendar 2.0//EN
METHOD:PUBLISH
X-PUBLISHED-TTL:P3D
REFRESH-INTERVAL:P3D
CALSCALE:GREGORIAN
BEGIN:VEVENT
DTSTART:20250123T023000Z
DTEND:20250123T043000Z
X-MICROSOFT-CDO-ALLDAYEVENT:FALSE
SUMMARY:Hybrid BCHD Board of Directors Meeting
DESCRIPTION:Residents are encouraged to attend board meetings in person or via Zoom. You may also contact board members directly with questions or comments\, or call 310-374-3426\, ext. 8213.  \n\nwww.bchd.org/board-directors-meetings
X-ALT-DESC;FMTTYPE=text/html:Residents are encouraged to attend board meetings in person or via Zoom. You may also contact board members directly with questions or comments\, or call 310-374-3426\, ext. 8213. &nbsp\;<br />\n<a href="http://www.bchd.org/board-directors-meetings">www.bchd.org/board-directors-meetings</a>
LOCATION:514 N. Prospect Ave.\, Lower Level - Beach Cities Room Redondo Beach\, CA 90277 or via Zoom
UID:e.2438.11092
SEQUENCE:3
DTSTAMP:20260422T143354Z
URL:https://business.hbchamber.net/events/details/hybrid-bchd-board-of-directors-meeting-11092
END:VEVENT

END:VCALENDAR
