BEGIN:VCALENDAR
VERSION:2.0
PRODID:-//ChamberMaster//Event Calendar 2.0//EN
METHOD:PUBLISH
X-PUBLISHED-TTL:P3D
REFRESH-INTERVAL:P3D
CALSCALE:GREGORIAN
BEGIN:VEVENT
DTSTART:20220430T160000Z
DTEND:20220430T173000Z
X-MICROSOFT-CDO-ALLDAYEVENT:FALSE
SUMMARY:HVPTO's Dolphin Dash
DESCRIPTION:The HVPTO's Dolphin Dash is a community run fundraising event for the Hermosa Beach City School District.
X-ALT-DESC;FMTTYPE=text/html:<div class="detail-content" style="box-sizing: border-box\; padding: 10px 0px\; clear: left\; zoom: 1\; color: rgb(21\, 27\, 33)\; font-family: Cabin\, sans-serif\; font-size: 18px\; background-color: rgb(247\, 246\, 244)\;">\n<p style="box-sizing: border-box\; margin: 0px 0px 1em\; text-align: center\;"><span itemprop="description" style="box-sizing: border-box\;">The HVPTO&#39\;s Dolphin Dash is a community run fundraising event for the Hermosa Beach City School District.</span></p>\n</div>\n
LOCATION:Beach and Strand 1 Pier Avenue Hermosa Beach\, California 90254
UID:e.2438.5401
SEQUENCE:3
DTSTAMP:20260421T091220Z
URL:https://business.hbchamber.net/events/details/hvpto-s-dolphin-dash-5401
END:VEVENT

END:VCALENDAR
