BEGIN:VCALENDAR
VERSION:2.0
PRODID:-//ChamberMaster//Event Calendar 2.0//EN
METHOD:PUBLISH
X-PUBLISHED-TTL:P3D
REFRESH-INTERVAL:P3D
CALSCALE:GREGORIAN
BEGIN:VEVENT
DTSTART:20220826T003000Z
DTEND:20220826T030000Z
X-MICROSOFT-CDO-ALLDAYEVENT:FALSE
SUMMARY:HPNG Business Mixer
DESCRIPTION:An exclusive and fun event for business-minded individuals to come together and network. *Free appetizers *Great conversations *Grow your business No RSVP Required
X-ALT-DESC;FMTTYPE=text/html:An exclusive and fun event for business-minded individuals to come together and network. *Free appetizers *Great conversations *Grow your business No RSVP Required
LOCATION:Hermosa Brewing Co. 11342 Hermosa Ave. Hermosa Beach
UID:e.2438.6095
SEQUENCE:3
DTSTAMP:20260421T014250Z
URL:https://business.hbchamber.net/events/details/hpng-business-mixer-6095
END:VEVENT

END:VCALENDAR
